BEGIN:VCALENDAR
VERSION:2.0
PRODID:-//Tech Alliance - ECPv4.7.1//NONSGML v1.0//EN
CALSCALE:GREGORIAN
METHOD:PUBLISH
X-ORIGINAL-URL:https://techalliance.nz
X-WR-CALDESC:Events for Tech Alliance
BEGIN:VEVENT
DTSTART;TZID=Pacific/Auckland:20181128T173000
DTEND;TZID=Pacific/Auckland:20181128T190000
DTSTAMP:20181219T015551
CREATED:20181014T210024Z
LAST-MODIFIED:20181014T210024Z
UID:2453-1543426200-1543431600@techalliance.nz
SUMMARY:2019 NZ Hi-Tech Awards Launch - Auckland
DESCRIPTION:Be inspired by previous entrants\, finalists and winners: We’ve got a great line-up of past Hi-Tech Award winners who will be speaking about what entering and winning a Hi-Tech Award has meant for their business. \nThe art of the entry form: We’ll be running a short session on tips and tricks on writing a great entry – learn why many companies fail at the first hurdle with a poorly written entry. \nFor other enquiries please email info@hitech.org.nz \n
URL:https://techalliance.nz/event/2019-nz-hi-tech-awards-launch-auckland/
CATEGORIES:Other Industry Event
ATTACH;FMTTYPE=image/png:https://techalliance.nz/wp-content/uploads/sites/10/2018/10/f30e17ee-647c-473b-9630-63e1ec5842d6-1.png
END:VEVENT
BEGIN:VEVENT
DTSTART;TZID=Pacific/Auckland:20181205T160000
DTEND;TZID=Pacific/Auckland:20181205T180000
DTSTAMP:20181219T015551
CREATED:20181014T210230Z
LAST-MODIFIED:20181014T210619Z
UID:2474-1544025600-1544032800@techalliance.nz
SUMMARY:2019 NZ Hi-Tech Awards Launch - Wellington
DESCRIPTION:[vc_row][vc_column][vc_column_text]Investor panel session: Hear from our expert line up of panelists that will guide and advise you on everything you need to know about raising capital for your business. \nThe Exit: The journey through to exit is often a long and complex path. Come and hear from someone who has been there\, done it and come out the other side. \nThe art of the entry form: We’ll be running a short session on tips and tricks on writing a great entry – learn why many companies fail at the first hurdle with a poorly written entry. \nFor other enquiries please email info@hitech.org.nz[/vc_column_text][/vc_column][/vc_row][vc_row][vc_column][vc_btn title=”Register Now” style=”outline-custom” outline_custom_color=”#666666″ outline_custom_hover_background=”#666666″ outline_custom_hover_text=”#ffffff” size=”lg” link=”url:http%3A%2F%2Fwww.hitech.org.nz%2Fevents%2Fevent%2Fwellington-launch-event||target:%20_blank|”][/vc_column][/vc_row] \n
URL:https://techalliance.nz/event/2019-nz-hi-tech-awards-launch-wellington/
CATEGORIES:Other Industry Events
ATTACH;FMTTYPE=image/png:https://techalliance.nz/wp-content/uploads/sites/10/2018/10/f3464d9e-c272-46a3-9bef-69239c86a401-1.png
END:VEVENT
BEGIN:VEVENT
DTSTART;TZID=Pacific/Auckland:20181206T160000
DTEND;TZID=Pacific/Auckland:20181206T183000
DTSTAMP:20181219T015551
CREATED:20181014T210212Z
LAST-MODIFIED:20181014T210212Z
UID:2491-1544112000-1544121000@techalliance.nz
SUMMARY:2019 NZ Hi-Tech Awards Launch - Christchurch
DESCRIPTION:Be inspired by previous entrants\, finalists and winners: We’ve got a great line-up of past Hi-Tech Award winners who will be speaking about what entering and winning a Hi-Tech Award has meant for their business. \nThe art of the entry form: We’ll be running a short session on tips and tricks on writing a great entry – learn why many companies fail at the first hurdle with a poorly written entry. \nFor other enquiries please email info@hitech.org.nz \n
URL:https://techalliance.nz/event/2019-nz-hi-tech-awards-launch-christchurch/
CATEGORIES:Other Industry Events
ATTACH;FMTTYPE=image/png:https://techalliance.nz/wp-content/uploads/sites/10/2018/10/Hi-Tech-Christchurch-1.png
END:VEVENT
END:VCALENDAR